BEGIN:VCALENDAR
VERSION:2.0
PRODID:-//Project I Am - ECPv6.15.20//NONSGML v1.0//EN
CALSCALE:GREGORIAN
METHOD:PUBLISH
X-WR-CALNAME:Project I Am
X-ORIGINAL-URL:https://weareprojectiam.com
X-WR-CALDESC:Events for Project I Am
REFRESH-INTERVAL;VALUE=DURATION:PT1H
X-Robots-Tag:noindex
X-PUBLISHED-TTL:PT1H
BEGIN:VTIMEZONE
TZID:America/Los_Angeles
BEGIN:DAYLIGHT
TZOFFSETFROM:-0800
TZOFFSETTO:-0700
TZNAME:PDT
DTSTART:20220313T100000
END:DAYLIGHT
BEGIN:STANDARD
TZOFFSETFROM:-0700
TZOFFSETTO:-0800
TZNAME:PST
DTSTART:20221106T090000
END:STANDARD
BEGIN:DAYLIGHT
TZOFFSETFROM:-0800
TZOFFSETTO:-0700
TZNAME:PDT
DTSTART:20230312T100000
END:DAYLIGHT
BEGIN:STANDARD
TZOFFSETFROM:-0700
TZOFFSETTO:-0800
TZNAME:PST
DTSTART:20231105T090000
END:STANDARD
BEGIN:DAYLIGHT
TZOFFSETFROM:-0800
TZOFFSETTO:-0700
TZNAME:PDT
DTSTART:20240310T100000
END:DAYLIGHT
BEGIN:STANDARD
TZOFFSETFROM:-0700
TZOFFSETTO:-0800
TZNAME:PST
DTSTART:20241103T090000
END:STANDARD
BEGIN:DAYLIGHT
TZOFFSETFROM:-0800
TZOFFSETTO:-0700
TZNAME:PDT
DTSTART:20250309T100000
END:DAYLIGHT
BEGIN:STANDARD
TZOFFSETFROM:-0700
TZOFFSETTO:-0800
TZNAME:PST
DTSTART:20251102T090000
END:STANDARD
BEGIN:DAYLIGHT
TZOFFSETFROM:-0800
TZOFFSETTO:-0700
TZNAME:PDT
DTSTART:20260308T100000
END:DAYLIGHT
BEGIN:STANDARD
TZOFFSETFROM:-0700
TZOFFSETTO:-0800
TZNAME:PST
DTSTART:20261101T090000
END:STANDARD
BEGIN:DAYLIGHT
TZOFFSETFROM:-0800
TZOFFSETTO:-0700
TZNAME:PDT
DTSTART:20270314T100000
END:DAYLIGHT
BEGIN:STANDARD
TZOFFSETFROM:-0700
TZOFFSETTO:-0800
TZNAME:PST
DTSTART:20271107T090000
END:STANDARD
END:VTIMEZONE
BEGIN:VTIMEZONE
TZID:America/North_Dakota/Center
BEGIN:DAYLIGHT
TZOFFSETFROM:-0600
TZOFFSETTO:-0500
TZNAME:CDT
DTSTART:20230312T080000
END:DAYLIGHT
BEGIN:STANDARD
TZOFFSETFROM:-0500
TZOFFSETTO:-0600
TZNAME:CST
DTSTART:20231105T070000
END:STANDARD
BEGIN:DAYLIGHT
TZOFFSETFROM:-0600
TZOFFSETTO:-0500
TZNAME:CDT
DTSTART:20240310T080000
END:DAYLIGHT
BEGIN:STANDARD
TZOFFSETFROM:-0500
TZOFFSETTO:-0600
TZNAME:CST
DTSTART:20241103T070000
END:STANDARD
BEGIN:DAYLIGHT
TZOFFSETFROM:-0600
TZOFFSETTO:-0500
TZNAME:CDT
DTSTART:20250309T080000
END:DAYLIGHT
BEGIN:STANDARD
TZOFFSETFROM:-0500
TZOFFSETTO:-0600
TZNAME:CST
DTSTART:20251102T070000
END:STANDARD
END:VTIMEZONE
BEGIN:VTIMEZONE
TZID:America/Chicago
BEGIN:DAYLIGHT
TZOFFSETFROM:-0600
TZOFFSETTO:-0500
TZNAME:CDT
DTSTART:20250309T080000
END:DAYLIGHT
BEGIN:STANDARD
TZOFFSETFROM:-0500
TZOFFSETTO:-0600
TZNAME:CST
DTSTART:20251102T070000
END:STANDARD
BEGIN:DAYLIGHT
TZOFFSETFROM:-0600
TZOFFSETTO:-0500
TZNAME:CDT
DTSTART:20260308T080000
END:DAYLIGHT
BEGIN:STANDARD
TZOFFSETFROM:-0500
TZOFFSETTO:-0600
TZNAME:CST
DTSTART:20261101T070000
END:STANDARD
BEGIN:DAYLIGHT
TZOFFSETFROM:-0600
TZOFFSETTO:-0500
TZNAME:CDT
DTSTART:20270314T080000
END:DAYLIGHT
BEGIN:STANDARD
TZOFFSETFROM:-0500
TZOFFSETTO:-0600
TZNAME:CST
DTSTART:20271107T070000
END:STANDARD
END:VTIMEZONE
BEGIN:VEVENT
DTSTART;TZID=America/Los_Angeles:20231128T180000
DTEND;TZID=America/Los_Angeles:20231128T190000
DTSTAMP:20260422T172958
CREATED:20231120T061723Z
LAST-MODIFIED:20231123T050419Z
UID:6797-1701194400-1701198000@weareprojectiam.com
SUMMARY:Giving Tuesday
DESCRIPTION:Virtual Packing Party with over 1\,100 youth from 40+ cities create 15\,000 blessing bags for those in need nationwide.
URL:https://weareprojectiam.com/projectiam-event/giving-tuesday-2/
END:VEVENT
BEGIN:VEVENT
DTSTART;TZID=America/North_Dakota/Center:20240115T090000
DTEND;TZID=America/North_Dakota/Center:20240115T130000
DTSTAMP:20260422T172958
CREATED:20231120T061827Z
LAST-MODIFIED:20240104T063004Z
UID:6798-1705309200-1705323600@weareprojectiam.com
SUMMARY:MLK Day of Service
DESCRIPTION:Each year Project I Am celebrates MLK Day with a day of service with Organic Oneness Organization. Families come together for multiple service projects\, including creating Blessing Bags and School Mural Installations in the Bronzeville neighborhood. \n 
URL:https://weareprojectiam.com/projectiam-event/mlk-day-of-service/
END:VEVENT
BEGIN:VEVENT
DTSTART;TZID=America/North_Dakota/Center:20240224T110000
DTEND;TZID=America/North_Dakota/Center:20240224T130000
DTSTAMP:20260422T172958
CREATED:20231120T062012Z
LAST-MODIFIED:20240223T043622Z
UID:6799-1708772400-1708779600@weareprojectiam.com
SUMMARY:Project I Am 8 Year Anniversary
DESCRIPTION:Register Today for our 8th Project I Am Annual Packing Party which takes place in Chicago. Toiletry donation collected at door (Needed items: Bar Soap\, Washcloths\, Mints\, Travel Sized Mouthwash\, and Lip Balm).
URL:https://weareprojectiam.com/projectiam-event/project-i-am-8-year-anniversary/
END:VEVENT
BEGIN:VEVENT
DTSTART;TZID=America/Los_Angeles:20240909T080000
DTEND;TZID=America/Los_Angeles:20240927T170000
DTSTAMP:20260422T172958
CREATED:20240822T060431Z
LAST-MODIFIED:20240822T084649Z
UID:7077-1725868800-1727456400@weareprojectiam.com
SUMMARY:Project I Am’s program of “Blessing Bags”.
DESCRIPTION:Our goal for our Day of Giving is to raise $9\,000 to support Project I Am’s program of “Blessing Bags”. This amount helps us make 1\,000 “Blessing Bags” that will be distributed to the unhoused population. \n\nGET INVOLVED
URL:https://weareprojectiam.com/projectiam-event/project-i-ams-program-of-blessing-bags/
END:VEVENT
BEGIN:VEVENT
DTSTART;TZID=America/Los_Angeles:20241203T080000
DTEND;TZID=America/Los_Angeles:20241203T170000
DTSTAMP:20260422T172958
CREATED:20240822T072221Z
LAST-MODIFIED:20240822T084146Z
UID:7079-1733212800-1733245200@weareprojectiam.com
SUMMARY:Virtual Packing Party
DESCRIPTION:Virtual Packing Party with over 1\,500 youth from 40+ cities create 20\,000 blessing bags for those in need nationwide.\n \n\nSIGN UP
URL:https://weareprojectiam.com/projectiam-event/virtual-packing-party/
END:VEVENT
BEGIN:VEVENT
DTSTART;TZID=America/Los_Angeles:20251202T180000
DTEND;TZID=America/Los_Angeles:20251202T180000
DTSTAMP:20260422T172958
CREATED:20250609T193606Z
LAST-MODIFIED:20251028T154813Z
UID:7124-1764698400-1764698400@weareprojectiam.com
SUMMARY:Giving Tuesday - Virtual Packing Party
DESCRIPTION:12/2/25\nGiving Tuesday\nVirtual Packing Party at 6pm CST \nVirtual Packing Party with over 1\,500 youth from 40+ cities create 20\,000 blessing bags for those in need nationwide. SIGN UP by Monday\, October 27\, 2025!
URL:https://weareprojectiam.com/projectiam-event/giving-tuesday-virtual-packing-party/
END:VEVENT
BEGIN:VEVENT
DTSTART;TZID=America/Los_Angeles:20260119T090000
DTEND;TZID=America/Los_Angeles:20260119T143000
DTSTAMP:20260422T172958
CREATED:20260113T195804Z
LAST-MODIFIED:20260113T195804Z
UID:7280-1768813200-1768833000@weareprojectiam.com
SUMMARY:MLK Day: Act of Service
DESCRIPTION:We’re honored to be part of the 8th Annual King Day of Service with Organic Oneness as we continue Dr. King’s legacy through action and compassion. There’s something powerful about what happens when youth and community come together around helping others\, reminding us that service\, dignity\, and love go hand in hand. \nRegister Now: https://docs.google.com/forms/d/e/1FAIpQLSfyY-I-6FhA5tC-wVUakZmUCZE_pXu6gd5myJOPJUyFzp-Ewg/viewform
URL:https://weareprojectiam.com/projectiam-event/mlk-day-act-of-service/
END:VEVENT
BEGIN:VEVENT
DTSTART;TZID=America/Chicago:20260320T180000
DTEND;TZID=America/Chicago:20260320T210000
DTSTAMP:20260422T172958
CREATED:20260210T171812Z
LAST-MODIFIED:20260211T150434Z
UID:7337-1774029600-1774040400@weareprojectiam.com
SUMMARY:Celebrating 10 Years Reception!
DESCRIPTION:3/20/26 – Celebrating 10 Years Reception at Connect Gallery\, 1451 E. 53rd Street\, Chicago\, IL 60615\, 6pm to 9pm. \nRSVP required – https://forms.gle/4WwHA1fLx5AaLFZ1A
URL:https://weareprojectiam.com/projectiam-event/celebrating-10-years-reception/
END:VEVENT
BEGIN:VEVENT
DTSTART;TZID=America/Chicago:20260321T160000
DTEND;TZID=America/Chicago:20260321T183000
DTSTAMP:20260422T172958
CREATED:20260210T171939Z
LAST-MODIFIED:20260226T204559Z
UID:7338-1774108800-1774117800@weareprojectiam.com
SUMMARY:Celebrating 10 Years Skating & Blessing Bag Packing Party!
DESCRIPTION:3/21/26 – Celebrating 10 Years Skating & Blessing Bag Packing Party at The Rink\, 1122 E. 87th Street\, Chicago\, IL 60619\, 4pm to 6:30pm \nRSVP required – https://forms.gle/4WwHA1fLx5AaLFZ1A
URL:https://weareprojectiam.com/projectiam-event/celebrating-10-years-skating-blessing-bag-packing-party/
END:VEVENT
END:VCALENDAR