BEGIN:VCALENDAR
VERSION:2.0
PRODID:-//Project I Am - ECPv6.15.20//NONSGML v1.0//EN
CALSCALE:GREGORIAN
METHOD:PUBLISH
X-WR-CALNAME:Project I Am
X-ORIGINAL-URL:https://weareprojectiam.com
X-WR-CALDESC:Events for Project I Am
REFRESH-INTERVAL;VALUE=DURATION:PT1H
X-Robots-Tag:noindex
X-PUBLISHED-TTL:PT1H
BEGIN:VTIMEZONE
TZID:America/Los_Angeles
BEGIN:DAYLIGHT
TZOFFSETFROM:-0800
TZOFFSETTO:-0700
TZNAME:PDT
DTSTART:20220313T100000
END:DAYLIGHT
BEGIN:STANDARD
TZOFFSETFROM:-0700
TZOFFSETTO:-0800
TZNAME:PST
DTSTART:20221106T090000
END:STANDARD
BEGIN:DAYLIGHT
TZOFFSETFROM:-0800
TZOFFSETTO:-0700
TZNAME:PDT
DTSTART:20230312T100000
END:DAYLIGHT
BEGIN:STANDARD
TZOFFSETFROM:-0700
TZOFFSETTO:-0800
TZNAME:PST
DTSTART:20231105T090000
END:STANDARD
BEGIN:DAYLIGHT
TZOFFSETFROM:-0800
TZOFFSETTO:-0700
TZNAME:PDT
DTSTART:20240310T100000
END:DAYLIGHT
BEGIN:STANDARD
TZOFFSETFROM:-0700
TZOFFSETTO:-0800
TZNAME:PST
DTSTART:20241103T090000
END:STANDARD
END:VTIMEZONE
BEGIN:VEVENT
DTSTART;TZID=America/Los_Angeles:20231128T180000
DTEND;TZID=America/Los_Angeles:20231128T190000
DTSTAMP:20260422T052119
CREATED:20231120T061723Z
LAST-MODIFIED:20231123T050419Z
UID:6797-1701194400-1701198000@weareprojectiam.com
SUMMARY:Giving Tuesday
DESCRIPTION:Virtual Packing Party with over 1\,100 youth from 40+ cities create 15\,000 blessing bags for those in need nationwide.
URL:https://weareprojectiam.com/projectiam-event/giving-tuesday-2/
END:VEVENT
END:VCALENDAR